BEGIN:VCALENDAR
VERSION:2.0
PRODID:-//LCII
CALSCALE:GREGORIAN
METHOD:PUBLISH
X-WR-CALNAME:LCII
X-ORIGINAL-URL:https://www.lcii.eu/event/renewable-energy-communities/
X-WR-CALDESC:Renewable Energy Communities
BEGIN:VEVENT
DTSTART:20221018T000000
DTEND:20221018T000000
SUMMARY:Renewable Energy Communities
DESCRIPTION:Study day at HEC Liege
LOCATION:Rue Louvrex 14, 4000 Liège
END:VEVENT
END:VCALENDAR
